BEGIN:VCALENDAR
PRODID:-//eluceo/ical//2.0/EN
VERSION:2.0
CALSCALE:GREGORIAN
BEGIN:VEVENT
UID:event-985
DTSTAMP:20260422T003103Z
SUMMARY:Rechten Introductieweekend
DESCRIPTION:In het weekend van vrijdag 29 t/m zondag 31 augustus 2025 z
 al het Rechten Introductieweekend plaatsvinden op kampeerboerderij Wouda.
  Dit is het weekend om je komende mederechtenstudenten te leren kennen en
  vrienden voor het leven te maken! Zo zijn er verschillende evenementen al
 s een zeskamp\, een feestavond en een thema-avond. Dit weekend is volledig
  gericht op het kennismaken met medestudenten en vormt een goede basis voo
 r de start van je eerste collegejaar. Inschrijven kan tot donderdag 28 aug
 ustus 16:00 uur. Datum: vrijdag 29 t/m zondag 31 Augustus 2025 Locatie: k
 ampeerboerderij Wouda\, Appelscha  Vervoer: gezamenlijk per bus Kosten le
 den: 39 euro Kosten niet-leden: 49 euro Hopelijk zien we je daar!
DTSTART:20250828T220000Z
DTEND:20250830T220000Z
END:VEVENT
BEGIN:VTIMEZONE
TZID:UTC
BEGIN:STANDARD
DTSTART:20250828T220000
TZNAME:UTC
TZOFFSETTO:+0000
TZOFFSETFROM:+0000
END:STANDARD
END:VTIMEZONE
END:VCALENDAR
