BEGIN:VCALENDAR
PRODID:-//eluceo/ical//2.0/EN
VERSION:2.0
CALSCALE:GREGORIAN
BEGIN:VEVENT
UID:event-938
DTSTAMP:20260423T230024Z
SUMMARY:Algemene Ledenvergadering 
DESCRIPTION:Tijdens de Algemene Ledenvergadering wordt het 117e Bestuur uit
 gehamerd en het 118e Kandidaatsbestuur gepresenteerd! Wil jij hier bij zij
 n?  Kom dan op maandag 26 mei om 19:00 uur naar Café Soestdijk en ontdek
  alle nieuwe plannen. 
DTSTART:20250526T170000Z
DTEND:20250526T210000Z
END:VEVENT
BEGIN:VTIMEZONE
TZID:UTC
BEGIN:STANDARD
DTSTART:20250526T170000
TZNAME:UTC
TZOFFSETTO:+0000
TZOFFSETFROM:+0000
END:STANDARD
END:VTIMEZONE
END:VCALENDAR
