BEGIN:VCALENDAR
PRODID:-//eluceo/ical//2.0/EN
VERSION:2.0
CALSCALE:GREGORIAN
BEGIN:VEVENT
UID:event-908
DTSTAMP:20260422T101537Z
SUMMARY:JFV Symposium
DESCRIPTION:Het JFV Symposium vindt plaats op donderdag 28 november 2024. 
 De spreker van dit jaar is misdaadjournalist Kees van der Spek. Kees is 
 onder andere bekend van zijn programma 'Kees van der Spek: Oplichters Aang
 epakt'. Inschrijven is gratis! Door je in te schrijven ga je akkoord met e
 en boete van 15 euro als je je minder dan 48 uur voor de start van het eve
 nement afmeldt. Maak hier een extern account aan om je in te schrijven als
  externe!
DTSTART:20241128T180000Z
DTEND:20241128T200000Z
END:VEVENT
BEGIN:VTIMEZONE
TZID:UTC
BEGIN:STANDARD
DTSTART:20241128T180000
TZNAME:UTC
TZOFFSETTO:+0000
TZOFFSETFROM:+0000
END:STANDARD
END:VTIMEZONE
END:VCALENDAR
