BEGIN:VCALENDAR
PRODID:-//eluceo/ical//2.0/EN
VERSION:2.0
CALSCALE:GREGORIAN
BEGIN:VEVENT
UID:event-896
DTSTAMP:20260420T042122Z
SUMMARY:Landelijk Voetbaltoernooi 
DESCRIPTION:Op 27 september vindt het Landelijk Voetbaltoernooi plaats bij 
 VV Odin in Utrecht. Hier strijden we tegen de rechten faculteitsverenigin
 gen uit andere steden. 
DTSTART:20240927T100000Z
DTEND:20240927T160000Z
LOCATION:VV Odin 
END:VEVENT
BEGIN:VTIMEZONE
TZID:UTC
BEGIN:STANDARD
DTSTART:20240927T100000
TZNAME:UTC
TZOFFSETTO:+0000
TZOFFSETFROM:+0000
END:STANDARD
END:VTIMEZONE
END:VCALENDAR
