BEGIN:VCALENDAR
PRODID:-//eluceo/ical//2.0/EN
VERSION:2.0
CALSCALE:GREGORIAN
BEGIN:VEVENT
UID:event-833
DTSTAMP:20260426T005730Z
SUMMARY:Pub Quiz
DESCRIPTION:Sign up for the Pub Quiz!  You think you can win this Pub Quiz
 ? We guess there is only one way to find out! Sign up for your group to 
 participate and prove you have the most  knowledge! 
DTSTART:20240515T180000Z
DTEND:20240515T200000Z
END:VEVENT
BEGIN:VTIMEZONE
TZID:UTC
BEGIN:STANDARD
DTSTART:20240515T180000
TZNAME:UTC
TZOFFSETTO:+0000
TZOFFSETFROM:+0000
END:STANDARD
END:VTIMEZONE
END:VCALENDAR
