BEGIN:VCALENDAR
PRODID:-//eluceo/ical//2.0/EN
VERSION:2.0
CALSCALE:GREGORIAN
BEGIN:VEVENT
UID:event-1042
DTSTAMP:20260421T141034Z
SUMMARY:Soft Skillsdag
DESCRIPTION:Soft Skillsdag  Op woensdag 6 mei 2026 organiseert de Carriere
 commissie de Soft Skillsdag in Paviljoen Sterrebos! Deze dag staat volledi
 g in het teken van het ontwikkelen van diverse soft skills. De aanwezige k
 antoren zijn: HVG Law AKD Simmons&amp\;Simmons Univé IND Tijdens de kenni
 smakingslunch krijg je de kans om hen beter te leren kennen. De bovenstaan
 de kantoren zullen workshops verzorgen. Je kunt je voorkeur tijdens het aa
 nmelden doorgeven. De dag wordt afgesloten met een panelgesprek\, gevolgd 
 door een borrel. Op deze laagdrempelige manier kun je zowel je soft skills
  versterken als kennismaken met de deelnemende kantoren\, bedrijven en ins
 tellingen.  Aan Tafel met: HVG Law Daarna vindt er een recruitment diner 
 plaats met HVG Law. Tijdens je aanmelding voor de Soft Skillsdag kun je aa
 ngeven of je bij het diner in de Graansilo wil zijn\, deelname is volledig
  gratis!  Er zijn 30 plekken beschikbaar\, je deelname wordt gebaseert o
 p je CV en studiepunten. Je wordt hierover tijdig geinformeerd.  Meld je
  aan!
DTSTART:20260506T100000Z
DTEND:20260506T160000Z
END:VEVENT
BEGIN:VTIMEZONE
TZID:UTC
BEGIN:STANDARD
DTSTART:20260506T100000
TZNAME:UTC
TZOFFSETTO:+0000
TZOFFSETFROM:+0000
END:STANDARD
END:VTIMEZONE
END:VCALENDAR
