BEGIN:VCALENDAR
PRODID:-//eluceo/ical//2.0/EN
VERSION:2.0
CALSCALE:GREGORIAN
BEGIN:VEVENT
UID:event-1030
DTSTAMP:20260419T162501Z
SUMMARY:Bedrijven- en Instellingendag
DESCRIPTION:De Bedrijven- en Instellingendag is hét jaarlijkse carrière-
 evenement van de Juridische Faculteitsvereniging Groningen. De Bedrijven- 
 en Instellingendag zal plaatsvinden op vrijdag 6 februari 2026 in de Mart
 iniplaza. Tijdens deze dag krijgen rechtenstudenten de kans om kennis te m
 aken met een groot aantal kantoren\, overheidsinstellingen en bedrijven ui
 t de juridische wereld.  Het programma van deze dag bestaat uit een plena
 ir gedeelte met een interessante spreker\, interactieve workshops\, indivi
 duele gesprekken en een banenmarkt. We sluiten de dag af met een diner bij
  het Feithhuis. De Bedrijven- en Instellingendag biedt studenten een unie
 ke gelegenheid om zich te oriënteren op hun toekomst in het recht en om w
 aardevolle contacten te leggen met potentiële werkgevers. Voor de deelnem
 ende kantoren en organisaties is het de ideale kans om kennis te maken met
  gemotiveerde\, ambitieuze rechtenstudenten uit Groningen.  Kortom\, de B
 edrijven- en Instellingendag is een niet te missen evenement voor iederee
 n die zijn of haar carrière een boost wil geven. De Bedrijven-en Instelli
 ngendagcommissie ziet jullie graag op vrijdag 6 februari! Maak hier een My
 career profiel aan om gratis naar de Bedrijven- en Instellingendag te kome
 n!
DTSTART:20260206T090000Z
DTEND:20260206T203000Z
END:VEVENT
BEGIN:VTIMEZONE
TZID:UTC
BEGIN:STANDARD
DTSTART:20260206T090000
TZNAME:UTC
TZOFFSETTO:+0000
TZOFFSETFROM:+0000
END:STANDARD
END:VTIMEZONE
END:VCALENDAR
